BEGIN:VCALENDAR
VERSION:2.0
PRODID:-//eventon.com NONSGML v1.0//EN
CALSCALE:GREGORIAN
METHOD:PUBLISH
BEGIN:VEVENT
UID:69e62f1d6ac9d
DTSTAMP:20260420T135021Z
DTSTART:20260409T123000Z
DTEND:20260409T150000Z
LOCATION:MELT 4 Rue de Turenne\,  Tourcoing
SUMMARY:Forum Mentorat
DESCRIPTION:📅 Jeudi 9 avril 2026🕒 14h30📍 Salle verte &#8211; MELT 
 La MELT vous invite à participer à son 1er Forum Mentorat\,  un temps for
 t dédié à la découverte des dispositifs d’accompagnement vers l’emp
 loi. 👉 Le mentorat\,  qu’est-ce que c’est ?Le mentorat\,  c’est un
 e relation d’accompagnement entre une personne expérimentée (le[..]\nht
 tps://www.la-melt.fr/events/forum-mentorat/
URL:https://www.la-melt.fr/events/forum-mentorat/
END:VEVENT
END:VCALENDAR