BEGIN:VCALENDAR
VERSION:2.0
PRODID:-//eventon.com NONSGML v1.0//EN
CALSCALE:GREGORIAN
METHOD:PUBLISH
BEGIN:VEVENT
UID:69e5ef9fa39b1
DTSTAMP:20260420T091927Z
DTSTART:20260312T133000Z
DTEND:20260312T153000Z
LOCATION:MELT 4 Rue de Turenne\,  Tourcoing
SUMMARY:Ciné débat "Le monde en soi"
DESCRIPTION:En partenariat avec Uniscité et Les cinémas citoyenneté\,  n
 ous vous proposons le visionnage du court-métrage « Le monde en soi » 
 qui aborde la santé mentale : Les jeunes volontaires Ambassadeurs santé 
 mentale et Les cinémas citoyenneté vous proposent suite au visionnage un 
 temps de débat sous la forme de questions guidées dynamiques.[..]\nhttps:
 //www.la-melt.fr/events/cine-debat-sante-mentale/
URL:https://www.la-melt.fr/events/cine-debat-sante-mentale/
END:VEVENT
END:VCALENDAR